BEGIN:VCALENDAR
VERSION:2.0
PRODID:-//Cults Hillwalking Club - ECPv6.2.4//NONSGML v1.0//EN
CALSCALE:GREGORIAN
METHOD:PUBLISH
X-ORIGINAL-URL:https://cultshillwalkingclub.org.uk
X-WR-CALDESC:Events for Cults Hillwalking Club
REFRESH-INTERVAL;VALUE=DURATION:PT1H
X-Robots-Tag:noindex
X-PUBLISHED-TTL:PT1H
BEGIN:VTIMEZONE
TZID:UTC
BEGIN:STANDARD
TZOFFSETFROM:+0000
TZOFFSETTO:+0000
TZNAME:UTC
DTSTART:20230101T000000
END:STANDARD
END:VTIMEZONE
BEGIN:VEVENT
DTSTART;TZID=UTC:20230907T193000
DTEND;TZID=UTC:20230907T210000
DTSTAMP:20260426T043450
CREATED:20230831T093817Z
LAST-MODIFIED:20230831T094329Z
UID:1342-1694115000-1694120400@cultshillwalkingclub.org.uk
SUMMARY:Safety on the Hills
DESCRIPTION:Safety in the Hills a talk by Mario di Maio. \nMario is a former Team Leader with Aberdeen Moutain Rescue. \nPlease remember £3 entrance money.\n 
URL:https://cultshillwalkingclub.org.uk/event/safety-in-the-hills
LOCATION:Cults Kirk Centre\, 404 North Deeside Road\, Aberdeen\, AB15 9TD
CATEGORIES:Indoor Meeting
END:VEVENT
END:VCALENDAR