BEGIN:VCALENDAR
VERSION:2.0
PRODID:-//Cults Hillwalking Club - ECPv6.2.4//NONSGML v1.0//EN
CALSCALE:GREGORIAN
METHOD:PUBLISH
X-WR-CALNAME:Cults Hillwalking Club
X-ORIGINAL-URL:https://cultshillwalkingclub.org.uk
X-WR-CALDESC:Events for Cults Hillwalking Club
REFRESH-INTERVAL;VALUE=DURATION:PT1H
X-Robots-Tag:noindex
X-PUBLISHED-TTL:PT1H
BEGIN:VTIMEZONE
TZID:UTC
BEGIN:STANDARD
TZOFFSETFROM:+0000
TZOFFSETTO:+0000
TZNAME:UTC
DTSTART:20230101T000000
END:STANDARD
END:VTIMEZONE
BEGIN:VEVENT
DTSTART;TZID=UTC:20231102T193000
DTEND;TZID=UTC:20231102T210000
DTSTAMP:20260426T030736
CREATED:20221005T164017Z
LAST-MODIFIED:20230928T232749Z
UID:1269-1698953400-1698958800@cultshillwalkingclub.org.uk
SUMMARY:Mesolithic Deeside
DESCRIPTION: The talk on Mesolithic Deeside\, will be given by Ali Cameron\, an archaeologist who specialises in work with human bones.  \nWhat’s beneath our feet? As hill walkers we follow in the footsteps of others in Deeside whether they be drovers\, hunter gatherers or Roman legionaries feeling homesick as they guard their colleagues. This month’s evening talk addresses the extensive work that is being carried out to identify and understand the many civilisations of the Northeast\, so don’t miss what should prove to be a very interesting talk this Thursday which will be given by our local archaeology expert\, Ali Cameron.\n \nPlease remember £3 entrance money.\n 
URL:https://cultshillwalkingclub.org.uk/event/mesolithic-deeside
LOCATION:Cults Kirk Centre\, 404 North Deeside Road\, Aberdeen\, AB15 9TD
CATEGORIES:Indoor Meeting
END:VEVENT
END:VCALENDAR